BEGIN:VCALENDAR
VERSION:2.0
PRODID:icalendar-ruby
CALSCALE:GREGORIAN
METHOD:PUBLISH
BEGIN:VEVENT
DTSTAMP:20260420T211848Z
UID:5-444276@gardenofgrace.church
DTSTART:20261011T170000Z
DTEND:20261011T180000Z
CLASS:PUBLIC
CREATED:20260420T131050
DESCRIPTION:Sunday Worship
LAST-MODIFIED:20260420T131050
LOCATION:
SUMMARY:Sunday Worship
URL;VALUE=URI:https://www.gardenofgrace.church/events/sunday-worship/2026-1
 0-11
END:VEVENT
END:VCALENDAR
