BEGIN:VCALENDAR
VERSION:2.0
PRODID:icalendar-ruby
CALSCALE:GREGORIAN
METHOD:PUBLISH
BEGIN:VEVENT
DTSTAMP:20260420T195834Z
UID:5-443950@gardenofgrace.church
DTSTART:20261004T170000Z
DTEND:20261004T180000Z
CLASS:PUBLIC
CREATED:20260420T103526
DESCRIPTION:Sunday Worship
LAST-MODIFIED:20260420T103526
LOCATION:
SUMMARY:Sunday Worship
URL;VALUE=URI:https://www.gardenofgrace.church/events/sunday-worship/2026-1
 0-04
END:VEVENT
END:VCALENDAR
