BEGIN:VCALENDAR
VERSION:2.0
PRODID:icalendar-ruby
CALSCALE:GREGORIAN
METHOD:PUBLISH
BEGIN:VEVENT
DTSTAMP:20260420T144124Z
UID:5-443296@gardenofgrace.church
DTSTART:20260906T170000Z
DTEND:20260906T180000Z
CLASS:PUBLIC
CREATED:20260420T052701
DESCRIPTION:Sunday Worship
LAST-MODIFIED:20260420T052701
LOCATION:
SUMMARY:Sunday Worship
URL;VALUE=URI:https://www.gardenofgrace.church/events/sunday-worship/2026-0
 9-06
END:VEVENT
END:VCALENDAR
